BEGIN:VCALENDAR
VERSION:2.0
PRODID:-//Atelier Marika Fünffinger - Malerin für Aquarelle &amp; Skizzen - ECPv6.15.17.1//NONSGML v1.0//EN
CALSCALE:GREGORIAN
METHOD:PUBLISH
X-ORIGINAL-URL:https://www.atelier-fuenffinger.de
X-WR-CALDESC:Veranstaltungen für Atelier Marika Fünffinger - Malerin für Aquarelle &amp; Skizzen
REFRESH-INTERVAL;VALUE=DURATION:PT1H
X-Robots-Tag:noindex
X-PUBLISHED-TTL:PT1H
BEGIN:VTIMEZONE
TZID:UTC
BEGIN:STANDARD
TZOFFSETFROM:+0000
TZOFFSETTO:+0000
TZNAME:UTC
DTSTART:20240101T000000
END:STANDARD
END:VTIMEZONE
BEGIN:VEVENT
DTSTART;TZID=UTC:20250921T180000
DTEND;TZID=UTC:20250921T200000
DTSTAMP:20260425T232728
CREATED:20250605T125039Z
LAST-MODIFIED:20250605T134710Z
UID:3174-1758477600-1758484800@www.atelier-fuenffinger.de
SUMMARY:Lesung „Alles mächtig verdächtig – Kurzkrimis und Lyrik“
DESCRIPTION:Kollektiv Alles Literatur!\nMitwirkende: Ulrich Bunjes\, Jürgen de Bassmann\, Katrin Sommer und Brigitte van Hattem.\nMusik: Peter Eck. \nEintritt frei.
URL:https://www.atelier-fuenffinger.de/termin/lesung-alles-maechtig-verdaechtig-kurzkrimis-und-lyrik/
CATEGORIES:Lessung,mein Atelier,Sonstige Veranstaltungen
ATTACH;FMTTYPE=image/jpeg:https://www.atelier-fuenffinger.de/wp-content/uploads/2025/06/Maechtig-verdaechtig.jpg
END:VEVENT
END:VCALENDAR